BEGIN:VCALENDAR
VERSION:2.0
PRODID:-//ChamberMaster//Event Calendar 2.0//EN
METHOD:PUBLISH
X-PUBLISHED-TTL:P3D
REFRESH-INTERVAL:P3D
CALSCALE:GREGORIAN
BEGIN:VEVENT
DTSTART:20150129T233000Z
DTEND:20150130T020000Z
X-MICROSOFT-CDO-ALLDAYEVENT:FALSE
SUMMARY:Colleyville Woman's Club Annual Gifting Party - CUPIDZ & COCKTAILZ
DESCRIPTION:Colleyville Woman's Club Annual Gifting Party\, "CUPIDZ & COCKTAILZ" is a great networking event\, offering attendees an opportunity to promote their business by donating an auction item or restaurant gift card.\n\nEvent admission is $25\, and includes:\n\n	Heavy hors d' oeuvres\n	"Flirtinis"\n	Beer/Wine\n	Entertainment\n	Valentines Day Auction Items\n	Treasure Chest Preview
X-ALT-DESC;FMTTYPE=text/html:Colleyville Woman&#39\;s Club Annual Gifting Party\, &quot\;CUPIDZ &amp\; COCKTAILZ&quot\; is a great networking event\, offering attendees an opportunity to promote their business by donating an auction item or restaurant gift card.<br />\nEvent admission is $25\, and includes:\n<ul>\n	<li>Heavy hors d&#39\; oeuvres</li>\n	<li>&quot\;Flirtinis&quot\;</li>\n	<li>Beer/Wine</li>\n	<li>Entertainment</li>\n	<li>Valentines Day Auction Items</li>\n	<li>Treasure Chest Preview</li>\n</ul>\n
LOCATION:Home of Mary and Ken Cornelius 4402 Shadywood Lane\, Colleyville
UID:e.642.7504
SEQUENCE:3
DTSTAMP:20260421T141943Z
URL:https://business.colleyvillechamber.org/events/details/colleyville-woman-s-club-annual-gifting-party-cupidz-cocktailz-01-29-2015-7504
END:VEVENT

END:VCALENDAR
