BEGIN:VCALENDAR
VERSION:2.0
PRODID:-//ChamberMaster//Event Calendar 2.0//EN
METHOD:PUBLISH
X-PUBLISHED-TTL:P3D
REFRESH-INTERVAL:P3D
CALSCALE:GREGORIAN
BEGIN:VEVENT
DTSTART:20121202T170000Z
DTEND:20121202T230000Z
X-MICROSOFT-CDO-ALLDAYEVENT:FALSE
SUMMARY:Colleyville Woman's Club Holiday Home Tour
DESCRIPTION:Several area homeowners graciously open their lovely homes to the public for one day only to help raise funds for CWC charities. The Tour attracts over 1\,000 visitors to its prestigious homes each year. The Tour showcases a variety of homes and lifestyles\, from magnificent mansions to homes with interesting interiors and unique architecture.     TTi
X-ALT-DESC;FMTTYPE=text/html:<div style="color: gray">\n	Several area homeowners graciously open their lovely homes to the public for one day only to help raise funds for CWC charities. The Tour attracts over 1\,000 visitors to its prestigious homes each year. The Tour showcases a variety of homes and lifestyles\, from magnificent mansions to homes with interesting interiors and unique architecture.<span _fck_bookmark="1" style="display: none">&nbsp\;&nbsp\;&nbsp\;&nbsp\; TTi</span></div>\n
LOCATION:
UID:e.642.5134
SEQUENCE:3
DTSTAMP:20260423T070803Z
URL:https://business.colleyvillechamber.org/events/details/colleyville-woman-s-club-holiday-home-tour-12-02-2012-5134
END:VEVENT

END:VCALENDAR
