BEGIN:VCALENDAR
VERSION:2.0
PRODID:-//ChamberMaster//Event Calendar 2.0//EN
METHOD:PUBLISH
X-PUBLISHED-TTL:P3D
REFRESH-INTERVAL:P3D
CALSCALE:GREGORIAN
BEGIN:VEVENT
DTSTART:20150320T143000Z
DTEND:20150320T190000Z
X-MICROSOFT-CDO-ALLDAYEVENT:FALSE
SUMMARY:Colleyville Woman's Club "Lunch with the Girlz" Fashion Benefit & Luncheon
DESCRIPTION:Luncheon\n	Fashion Show\n	Live Auction\n	Silent Auction\n	Experience Board\n	Treasure Chest Raffle
X-ALT-DESC;FMTTYPE=text/html:<ul>\n	<li>Luncheon</li>\n	<li>Fashion Show</li>\n	<li>Live Auction</li>\n	<li>Silent Auction</li>\n	<li>Experience Board</li>\n	<li>Treasure Chest Raffle</li>\n</ul>\n
LOCATION:Hurst Conference Center
UID:e.642.7513
SEQUENCE:3
DTSTAMP:20260421T124818Z
URL:https://business.colleyvillechamber.org/events/details/colleyville-woman-s-club-lunch-with-the-girlz-fashion-benefit-luncheon-03-20-2015-7513
END:VEVENT

END:VCALENDAR
