BEGIN:VCALENDAR
VERSION:2.0
PRODID:-//ChamberMaster//Event Calendar 2.0//EN
METHOD:PUBLISH
X-PUBLISHED-TTL:P3D
REFRESH-INTERVAL:P3D
CALSCALE:GREGORIAN
BEGIN:VEVENT
DTSTART:20140329T140000Z
DTEND:20140329T170000Z
X-MICROSOFT-CDO-ALLDAYEVENT:FALSE
SUMMARY:Community Blood Drive
DESCRIPTION:Join us with Carter Blood for a community blood drive! All participants will receive a free goodie bag with coupons and freebies to local restaurants and businesses. To save your space\, please visit  https://ww2.greatpartners.org/donor/schedules/drive_schedule/52315
X-ALT-DESC;FMTTYPE=text/html:Join us with Carter Blood for a community blood drive! All participants will receive a free goodie bag with coupons and freebies to local restaurants and businesses. To save your space\, please visit&nbsp\; https://ww2.greatpartners.org/donor/schedules/drive_schedule/52315
LOCATION:Back In Motion Family Chiropractic 104 Grapevine Highway #400 Hurst\, TX 76054
UID:e.642.6848
SEQUENCE:3
DTSTAMP:20260422T065634Z
URL:https://business.colleyvillechamber.org/events/details/community-blood-drive-03-29-2014-6848
END:VEVENT

END:VCALENDAR
