BEGIN:VCALENDAR
VERSION:2.0
PRODID:-//ChamberMaster//Event Calendar 2.0//EN
METHOD:PUBLISH
X-PUBLISHED-TTL:P3D
REFRESH-INTERVAL:P3D
CALSCALE:GREGORIAN
BEGIN:VEVENT
DTSTART:20150530T130000Z
DTEND:20150530T170000Z
X-MICROSOFT-CDO-ALLDAYEVENT:FALSE
SUMMARY:Community Blood Drive
DESCRIPTION:Community Blood Drive\n\nSaturday\, May 30th\n\n8:00 am - 12:00 pm\n\n\n\nAll Existing patients at Back in Motion who donate will also receive an adjustment at no charge.\n\nNew Patients who donate will receive initial exam and x-rays (if needed) at no charge!\n\nWe will also be giving away a goodie bag for all blood donors:)
X-ALT-DESC;FMTTYPE=text/html:<strong>&nbsp\;&nbsp\;&nbsp\;&nbsp\;&nbsp\;&nbsp\;&nbsp\;&nbsp\;&nbsp\;&nbsp\;&nbsp\;&nbsp\;&nbsp\;&nbsp\;&nbsp\;&nbsp\;&nbsp\;&nbsp\;&nbsp\;&nbsp\;&nbsp\;&nbsp\;&nbsp\;&nbsp\;&nbsp\;&nbsp\;&nbsp\;&nbsp\;&nbsp\;&nbsp\;&nbsp\;&nbsp\;&nbsp\;&nbsp\;&nbsp\;&nbsp\;&nbsp\;&nbsp\;&nbsp\;&nbsp\;&nbsp\;&nbsp\;&nbsp\;&nbsp\;&nbsp\;&nbsp\; <span style="font-size: 14px\;"><span style="color: rgb(255\, 0\, 0)\;">Community Blood Drive<br />\nSaturday\, May 30th<br />\n8:00 am - 12:00 pm</span><br />\n<br />\n<span style="color: rgb(0\, 0\, 255)\;">All Existing patients at Back in Motion who donate will also receive an adjustment at no charge.<br />\nNew Patients who donate will receive initial exam and x-rays (if needed) at no charge!</span></span></strong><br />\nWe will also be giving away a goodie bag for all blood donors:)
LOCATION:104 Grapevine HWY suite 400 Hurst\, Tx 76054
UID:e.642.7998
SEQUENCE:3
DTSTAMP:20260421T084035Z
URL:https://business.colleyvillechamber.org/events/details/community-blood-drive-05-30-2015-7998
END:VEVENT

END:VCALENDAR
