BEGIN:VCALENDAR
VERSION:2.0
PRODID:-//ChamberMaster//Event Calendar 2.0//EN
METHOD:PUBLISH
X-PUBLISHED-TTL:P3D
REFRESH-INTERVAL:P3D
CALSCALE:GREGORIAN
BEGIN:VEVENT
DTSTART:20140819T180000Z
DTEND:20140819T233000Z
X-MICROSOFT-CDO-ALLDAYEVENT:FALSE
SUMMARY:Cornerstone Health & Wellness Toxicity Workshop
DESCRIPTION:Date: Thursday August 14\, 2014\n\n                                           Tuesday   August 19\, 2014\n\nWhen: 1:00 P.M and 6:30 P.M\n\nWhere: Cornerstone Health and Wellness\n\n5509 Colleyville BLVD\, Suite 100\n\n \n\nTo RSVP call (817)479-0055 or send an e-mail to info@cornerstone-hw.com
X-ALT-DESC;FMTTYPE=text/html:&nbsp\;<br />\n&nbsp\;<br />\n<strong><span style="font-size: 12pt\;"><span style="font-family: arial\,sans-serif\;"><span style="color: rgb(0\, 32\, 96)\;">&nbsp\;&nbsp\;&nbsp\;&nbsp\;&nbsp\;&nbsp\;&nbsp\;</span></span></span></strong><br />\n&nbsp\;<br />\n&nbsp\;<br />\n<br />\n&nbsp\;<br />\n<br />\n&nbsp\;<br />\n<strong><span style="font-size: 14pt\;"><span style="font-family: arial\,sans-serif\;"><span style="color: rgb(0\, 32\, 96)\;">&nbsp\;&nbsp\;&nbsp\;&nbsp\;&nbsp\;&nbsp\;&nbsp\;&nbsp\;&nbsp\;&nbsp\;&nbsp\;&nbsp\;&nbsp\;&nbsp\;&nbsp\;&nbsp\;&nbsp\;&nbsp\;&nbsp\;&nbsp\;&nbsp\;&nbsp\;&nbsp\;&nbsp\;&nbsp\;&nbsp\;&nbsp\;&nbsp\;&nbsp\;&nbsp\;&nbsp\;&nbsp\; Date: Thursday August 14\, 2014</span></span></span></strong><br />\n<strong><span style="font-size: 14pt\;"><span style="font-family: arial\,sans-serif\;"><span style="color: rgb(0\, 32\, 96)\;">&nbsp\;&nbsp\;&nbsp\;&nbsp\;&nbsp\;&nbsp\;&nbsp\;&nbsp\;&nbsp\;&nbsp\;&nbsp\;&nbsp\;&nbsp\;&nbsp\;&nbsp\;&nbsp\;&nbsp\;&nbsp\;&nbsp\;&nbsp\;&nbsp\;&nbsp\;&nbsp\;&nbsp\;&nbsp\;&nbsp\;&nbsp\;&nbsp\;&nbsp\;&nbsp\;&nbsp\;&nbsp\;&nbsp\;&nbsp\;&nbsp\;&nbsp\;&nbsp\;&nbsp\;&nbsp\;&nbsp\;&nbsp\;&nbsp\; Tuesday&nbsp\;&nbsp\; August 19\, 2014</span></span></span></strong><br />\n<strong><span style="font-size: 14pt\;"><span style="font-family: arial\,sans-serif\;"><span style="color: rgb(0\, 32\, 96)\;">When: 1:00 P.M and 6:30 P.M</span></span></span></strong><br />\n<strong><span style="font-size: 14pt\;"><span style="font-family: arial\,sans-serif\;"><span style="color: rgb(0\, 32\, 96)\;">Where: Cornerstone Health and Wellness</span></span></span></strong><br />\n<strong><span style="font-size: 14pt\;"><span style="font-family: arial\,sans-serif\;"><span style="color: rgb(0\, 32\, 96)\;">5509 Colleyville BLVD\, Suite 100</span></span></span></strong><br />\n&nbsp\;<br />\n<strong><span style="font-size: 14pt\;"><span style="font-family: arial\,sans-serif\;"><span style="color: rgb(0\, 32\, 96)\;">To </span></span></span></strong><strong><span style="font-size: 14pt\;"><span style="font-family: brush script mt\;"><span style="color: rgb(0\, 32\, 96)\;">RSVP </span></span></span></strong><strong><span style="font-size: 14pt\;"><span style="font-family: arial\,sans-serif\;"><span style="color: rgb(0\, 32\, 96)\;">call (817)479-0055 or send an e-mail to info@cornerstone-hw.com</span></span></span></strong><br />\n&nbsp\;<br />\n&nbsp\;
LOCATION:
UID:e.642.6921
SEQUENCE:3
DTSTAMP:20260421T235705Z
URL:https://business.colleyvillechamber.org/events/details/cornerstone-health-wellness-toxicity-workshop-08-19-2014-6921
END:VEVENT

END:VCALENDAR
