BEGIN:VCALENDAR
VERSION:2.0
PRODID:-//ChamberMaster//Event Calendar 2.0//EN
METHOD:PUBLISH
X-PUBLISHED-TTL:P3D
REFRESH-INTERVAL:P3D
CALSCALE:GREGORIAN
BEGIN:VEVENT
DTSTART:20150504T160000Z
DTEND:20150505T000000Z
X-MICROSOFT-CDO-ALLDAYEVENT:FALSE
SUMMARY:Cornerstone Wealth Strategies & North Texas SNAP Golf Classic
DESCRIPTION:11:00 a.m registration/lunch \n\n12:30 p.m. call to carts\n\n12:45 p.m. shotgun start\n\n5:30 p.m. - 6:30 p.m. awards dinner\n\n(time is approximate) \n\n\n\nEarly Bird Special - $165 per player (Before April 17)\, $180 per player (After April 17)\, $625 per foursome (Before April 17) and $700 per foursome (After April 17). Price includes: Raising Cane's 3 finger combo lunch\, round of golf\, mobile leader board\, goody bag\, golfer gift\, closest-to-the-pin and longest drive contests\, and Outback Steak House awards dinner. \n\n\n\nMust be registered and paid by Friday\, May 1\, 2015 to guarantee playing spot. For more information www.ntxsnap.org
X-ALT-DESC;FMTTYPE=text/html:11:00 a.m registration/lunch&nbsp\;<br />\n12:30 p.m. call to carts<br />\n12:45 p.m. shotgun start<br />\n5:30 p.m. - 6:30 p.m. awards dinner<br />\n(time is approximate)&nbsp\;<br />\n<br />\nEarly Bird Special - $165 per player (Before April 17)\, $180 per player (After April 17)\, $625 per foursome (Before April 17) and $700 per foursome (After April 17). Price includes: Raising Cane&#39\;s 3 finger combo lunch\, round of golf\, mobile leader board\, goody bag\, golfer gift\, closest-to-the-pin and longest drive contests\, and Outback Steak House awards dinner.&nbsp\;<br />\n<br />\nMust be registered and paid by Friday\, May 1\, 2015 to guarantee playing spot. For more information www.ntxsnap.org
LOCATION:Sky Creek Ranch 600 Promontory Dr. Keller\, TX
UID:e.642.7514
SEQUENCE:3
DTSTAMP:20260421T123953Z
URL:https://business.colleyvillechamber.org/events/details/cornerstone-wealth-strategies-north-texas-snap-golf-classic-05-04-2015-7514
END:VEVENT

END:VCALENDAR
