BEGIN:VCALENDAR
VERSION:2.0
PRODID:-//ChamberMaster//Event Calendar 2.0//EN
METHOD:PUBLISH
X-PUBLISHED-TTL:P3D
REFRESH-INTERVAL:P3D
CALSCALE:GREGORIAN
BEGIN:VEVENT
DTSTART:20130413T224500Z
DTEND:20130414T030000Z
X-MICROSOFT-CDO-ALLDAYEVENT:FALSE
SUMMARY:Covenant Christian Academy 25th Annual Gala and Auction
DESCRIPTION:Covenant Christian Academy's 25th Anniversary Gala and  Auction will take place at the Austin Ranch/Hilton DFW on April 13.  A ticket is required for entry into the event and includes a lovely catered dinner.  $50 per person.  Over $200\,000 is raised at this spectacular event that includes both a live auction and a silent auction.
X-ALT-DESC;FMTTYPE=text/html:Covenant Christian Academy&#39\;s 25th Anniversary Gala and&nbsp\; Auction will take place at the Austin Ranch/Hilton DFW on April 13.&nbsp\; A ticket is required for entry into the event and includes a lovely catered dinner.&nbsp\; $50 per person.&nbsp\; Over $200\,000 is raised at this spectacular event that includes both a live auction and a silent auction.
LOCATION:Hilton DFW-Austin Ranch
UID:e.642.5625
SEQUENCE:3
DTSTAMP:20260423T001325Z
URL:https://business.colleyvillechamber.org/events/details/covenant-christian-academy-25th-annual-gala-and-auction-04-13-2013-5625
END:VEVENT

END:VCALENDAR
