BEGIN:VCALENDAR
VERSION:2.0
PRODID:-//ChamberMaster//Event Calendar 2.0//EN
METHOD:PUBLISH
X-PUBLISHED-TTL:P3D
REFRESH-INTERVAL:P3D
CALSCALE:GREGORIAN
BEGIN:VEVENT
DTSTART:20120421T000000Z
DTEND:20120421T020000Z
X-MICROSOFT-CDO-ALLDAYEVENT:FALSE
SUMMARY:Cross Train Grand Opening Celebration
DESCRIPTION:Come tour our studio and see for yourself this unique workout studio designed with you in mind!  We will share details about our monthly membership program\, mission and amazingly affordable cost.
X-ALT-DESC;FMTTYPE=text/html:Come tour our studio and see for yourself this unique workout studio designed with you in mind!&nbsp\; We will share details about our monthly membership program\, mission and amazingly affordable cost. 
LOCATION:
UID:e.642.5038
SEQUENCE:3
DTSTAMP:20260423T212046Z
URL:https://business.colleyvillechamber.org/events/details/cross-train-grand-opening-celebration-04-20-2012-5038
END:VEVENT

END:VCALENDAR
