BEGIN:VCALENDAR
VERSION:2.0
PRODID:-//ChamberMaster//Event Calendar 2.0//EN
METHOD:PUBLISH
X-PUBLISHED-TTL:P3D
REFRESH-INTERVAL:P3D
CALSCALE:GREGORIAN
BEGIN:VEVENT
DTSTART:20120502T220000Z
DTEND:20120502T233000Z
X-MICROSOFT-CDO-ALLDAYEVENT:FALSE
SUMMARY:Cross Train Ribbon Cutting
DESCRIPTION:
X-ALT-DESC;FMTTYPE=text/html:
LOCATION:11125 Davis Blvd.\, #400 Southlake\, TX 76092 SouthS
UID:e.642.5041
SEQUENCE:3
DTSTAMP:20260423T195417Z
URL:https://business.colleyvillechamber.org/events/details/cross-train-ribbon-cutting-05-02-2012-5041
END:VEVENT

END:VCALENDAR
