BEGIN:VCALENDAR
VERSION:2.0
PRODID:-//ChamberMaster//Event Calendar 2.0//EN
METHOD:PUBLISH
X-PUBLISHED-TTL:P3D
REFRESH-INTERVAL:P3D
CALSCALE:GREGORIAN
BEGIN:VEVENT
DTSTART:20141113T233000Z
DTEND:20141114T010000Z
X-MICROSOFT-CDO-ALLDAYEVENT:FALSE
SUMMARY:Crown of Life Lutheran School Fall Open House
DESCRIPTION:Join Principal Dr. Larry Darlage as he brings greetings and shares information about the school. Following a campus tour\, teachers and administrators will be available to answer your questions. Here are a few reasons why our school has been described as "The Best Kept Secret in Tarrant County":   On average\, our students test 1-3 years ahead of their peers academically   Standardized test scores rank our students in the top 10% of the nation   All teachers are degreed\, certified\, and gifted & talented trained   Upper School students can earn high school credits   Spanish\, Art\, and P.E. are offered to all students   Tuition Assistance is available   A Statement of Faith is not required
X-ALT-DESC;FMTTYPE=text/html:<span new="" style="font-family: \;" times=""><font color="#000000">Join Principal Dr. Larry Darlage as he brings greetings and shares information about the school. Following a campus tour\, teachers and administrators will be available to answer your questions. Here are a few reasons why our school has been described as &quot\;The Best Kept Secret in Tarrant County&quot\;: &bull\; On average\, our students test 1-3 years ahead of their peers academically &bull\; Standardized test scores rank our students in the top 10% of the nation &bull\; All teachers are degreed\, certified\, and gifted &amp\; talented trained &bull\; Upper School students can earn high school credits &bull\; Spanish\, Art\, and P.E. are offered to all students &bull\; Tuition Assistance is available &bull\; A Statement of Faith is not required </font></span>
LOCATION:The Fall Open House will start at 5:30 pm and end at 7 on Thurs.. Nov 13. 6605 Pleasant Run Road\, Colleyville.
UID:e.642.7240
SEQUENCE:3
DTSTAMP:20260421T172326Z
URL:https://business.colleyvillechamber.org/events/details/crown-of-life-lutheran-school-fall-open-house-11-13-2014-7240
END:VEVENT

END:VCALENDAR
