BEGIN:VCALENDAR
VERSION:2.0
PRODID:-//ChamberMaster//Event Calendar 2.0//EN
METHOD:PUBLISH
X-PUBLISHED-TTL:P3D
REFRESH-INTERVAL:P3D
CALSCALE:GREGORIAN
BEGIN:VEVENT
DTSTART:20140225T233000Z
DTEND:20140226T013000Z
X-MICROSOFT-CDO-ALLDAYEVENT:FALSE
SUMMARY:Crown of Life Lutheran School Open House
DESCRIPTION:Family Preview & Open House\n\n	Tuesday\, February 25th\n\n	Preview Day: 9:00-11:00am \n\n	Open House: 5:30-7:30pm\n\n	$150 application fee waived and free kids activity bag for those in attendance.\n\n	Enrolling preschool age 2 -  8th grade for the 2014-2015 school year.\n\n	Come and go as you please.  We hope to see you there!\n\n	Click here for more information\n\n	Landing Page: http://www.colschool.org/#!enrollment/ck8u
X-ALT-DESC;FMTTYPE=text/html:<div style="color: gray\;">\n	<span style="color: rgb(255\, 0\, 0)\;"><span style="font-size: 18px\;"><strong><span style="font-family: calibri\,sans-serif\;">Family Preview &amp\; Open House</span></strong></span></span><br />\n	<span style="font-family: calibri\,sans-serif\;"><span style="font-size: medium\;">Tuesday\, February 25th</span></span><br />\n	<span style="font-family: calibri\,sans-serif\;"><span style="font-size: medium\;">Preview Day: 9:00-11:00am </span></span><br />\n	<span style="font-family: calibri\,sans-serif\;"><span style="font-size: medium\;">Open House: 5:30-7:30pm</span></span><br />\n	<span style="font-family: calibri\,sans-serif\;"><span style="font-size: medium\;">$150 application fee waived and free kids activity bag for those in attendance.</span></span><br />\n	<span style="font-family: calibri\,sans-serif\;"><span style="font-size: medium\;">Enrolling preschool age 2 -&nbsp\; 8th grade for the 2014-2015 school year.</span></span><br />\n	<span style="font-family: calibri\,sans-serif\;"><span style="font-size: medium\;">Come and go as you please.&nbsp\; We hope to see you there!</span></span><br />\n	Click here for more information<br />\n	<span style="font-family: calibri\,sans-serif\;"><span style="font-size: medium\;">Landing Page: </span></span><a href="http://www.colschool.org/#%21enrollment/ck8u" target="_parent" title="http://www.colschool.org/#%21enrollment/ck8u"><span style="color: rgb(0\, 102\, 204)\;"><span style="font-size: medium\;">http://www.colschool.org/#!enrollment/ck8u</span></span></a><br />\n	&nbsp\;</div>\n
LOCATION:Crown of Life Lutheran Church and School 6605 Pleasant Run Road Colleyville\, TX 76034 (817) 421-5683 Fax: (817) 421-9263 church@crownoflife.org Click here to edit...
UID:e.642.6823
SEQUENCE:3
DTSTAMP:20260422T100358Z
URL:https://business.colleyvillechamber.org/events/details/crown-of-life-lutheran-school-open-house-02-25-2014-6823
END:VEVENT

END:VCALENDAR
