BEGIN:VCALENDAR
VERSION:2.0
PRODID:-//ChamberMaster//Event Calendar 2.0//EN
METHOD:PUBLISH
X-PUBLISHED-TTL:P3D
REFRESH-INTERVAL:P3D
CALSCALE:GREGORIAN
BEGIN:VEVENT
DTSTART:20140328T230000Z
DTEND:20140329T040000Z
X-MICROSOFT-CDO-ALLDAYEVENT:FALSE
SUMMARY:Crown of Life Lutheran School Spring Gala
DESCRIPTION:Crown of Life Lutheran School is hosting their 2014 Spring Gala "God's R.A.C.E" at the Texas Motor Speedway on March 28. \n\nPlease join them for an evening of dinner and dancing to benefit the Crown of Life playground and the Emily Weinke Tuition Assistance Endowment Fund.\n\nFeaturing a cash bar\, gourmet buffet dinner\, silent and live auctions\, wine and dine pull\, and a photo booth. \n\nFriday\, March 28\, 6 p.m.-11 p.m.\n\nTexas Motor Speedway\, Grand Ballroom\n\n3545 Lone Star Circle Ft. Worth\, TX \n\nRegister online at www.bidpal.net/godsrace. Tickets are $65 Individual\, $120 Couple\, $585 Table of 10\, $750 VIP Table of 10. Cocktail Attire.\n\nSponsors: Hodges Capital Management\, Texas Water Technologies\, High I.Q. Homes of Texas\, Efficient Facilities International\, Marsha Clark and Associates\, Worthington National Bank\, Edward Jones\, Bill Hanshaw Associates\, and Phenix Salon.\n\nLive Auctioneer: Louis Murad\, Live Band: Friday Night Flights\, Honorary Guest: La Providencia Orphanage
X-ALT-DESC;FMTTYPE=text/html:<p><span style="font-family: &quot\;Calibri&quot\;\,&quot\;sans-serif&quot\;\;"><font size="3"><font color="#000000">Crown of Life Lutheran School is hosting their 2014 Spring Gala &quot\;God&#39\;s R.A.C.E&quot\; at the Texas Motor Speedway on March 28.&nbsp\;<o:p></o:p></font></font></span></p>\n\n<p><span style="font-family: &quot\;Calibri&quot\;\,&quot\;sans-serif&quot\;\;"><font size="3"><font color="#000000">Please join them for an evening of dinner and dancing to benefit the Crown of Life playground and the Emily Weinke Tuition Assistance Endowment Fund.<o:p></o:p></font></font></span></p>\n\n<p><span style="font-family: &quot\;Calibri&quot\;\,&quot\;sans-serif&quot\;\;"><font size="3"><font color="#000000">Featuring a cash bar\, gourmet buffet dinner\, silent and live auctions\, wine and dine pull\, and a photo booth.&nbsp\;<o:p></o:p></font></font></span></p>\n\n<p><span style="font-family: &quot\;Calibri&quot\;\,&quot\;sans-serif&quot\;\;"><font size="3"><font color="#000000">Friday\, March 28\, 6 p.m.-11 p.m.<o:p></o:p></font></font></span></p>\n\n<p><span style="font-family: &quot\;Calibri&quot\;\,&quot\;sans-serif&quot\;\;"><font size="3"><font color="#000000">Texas Motor Speedway\, Grand Ballroom<br />\n3545 Lone Star Circle Ft. Worth\, TX&nbsp\;<o:p></o:p></font></font></span></p>\n\n<p><span style="font-family: &quot\;Calibri&quot\;\,&quot\;sans-serif&quot\;\;"><font color="#000000" size="3">Register online at </font><a href="http://www.bidpal.net/godsrace" target="_parent" title="http://www.bidpal.net/godsrace"><span style="color: rgb(0\, 102\, 204)\;"><font size="3">www.bidpal.net/godsrace</font></span></a><font size="3"><font color="#000000">. Tickets are $65 Individual\, $120 Couple\, $585 Table of 10\, $750 VIP Table of 10. Cocktail Attire.<o:p></o:p></font></font></span></p>\n\n<p><span style="font-family: &quot\;Calibri&quot\;\,&quot\;sans-serif&quot\;\;"><font size="3"><font color="#000000">Sponsors: Hodges Capital Management\, Texas Water Technologies\, High I.Q. Homes of Texas\, Efficient Facilities International\, Marsha Clark and Associates\, Worthington National Bank\, Edward Jones\, Bill Hanshaw Associates\, and Phenix Salon.<o:p></o:p></font></font></span></p>\n\n<p><span style="font-family: &quot\;Calibri&quot\;\,&quot\;sans-serif&quot\;\;"><font size="3"><font color="#000000">Live Auctioneer: Louis Murad\, Live Band: Friday Night Flights\, Honorary Guest: La Providencia Orphanage<o:p></o:p></font></font></span></p>\n
LOCATION:
UID:e.642.6841
SEQUENCE:3
DTSTAMP:20260422T065854Z
URL:https://business.colleyvillechamber.org/events/details/crown-of-life-lutheran-school-spring-gala-03-28-2014-6841
END:VEVENT

END:VCALENDAR
