BEGIN:VCALENDAR
VERSION:2.0
PRODID:-//ChamberMaster//Event Calendar 2.0//EN
METHOD:PUBLISH
X-PUBLISHED-TTL:P3D
REFRESH-INTERVAL:P3D
CALSCALE:GREGORIAN
BEGIN:VEVENT
DTSTART:20130510T170000Z
DTEND:20130510T180000Z
X-MICROSOFT-CDO-ALLDAYEVENT:FALSE
SUMMARY:CV Business Connection
DESCRIPTION:Looking to generate business referrals and get to know more people in your community?  Come visit this weekly networking group for fantastic business and personal development opportunities.  You have to eat lunch\, so why not build your network while you do it?  Bring a colleague and enjoy local\, professional business networking!
X-ALT-DESC;FMTTYPE=text/html:<div>Looking to generate business referrals and get to know more people in your community?&nbsp\; Come visit this weekly networking group for fantastic business and personal development opportunities.&nbsp\; You have to eat lunch\, so why not build your network while you do it?&nbsp\; Bring a colleague and enjoy local\, professional business networking!</div>
LOCATION:Ruggeri's Italian Ristorante32 Village Lane Suite 100 Colleyville\, TX
UID:e.642.1401
SEQUENCE:3
DTSTAMP:20260422T222533Z
URL:https://business.colleyvillechamber.org/events/details/cv-business-connection-05-10-2013-1401
END:VEVENT

END:VCALENDAR
