BEGIN:VCALENDAR
VERSION:2.0
PRODID:-//ChamberMaster//Event Calendar 2.0//EN
METHOD:PUBLISH
X-PUBLISHED-TTL:P3D
REFRESH-INTERVAL:P3D
CALSCALE:GREGORIAN
BEGIN:VEVENT
DTSTART:20300828T210000Z
DTEND:20300829T000000Z
X-MICROSOFT-CDO-ALLDAYEVENT:FALSE
SUMMARY:CV Chamber Monthly Board Meeting
DESCRIPTION:
X-ALT-DESC;FMTTYPE=text/html:
LOCATION:Colleyville Chamber of Commerce 35 Veranda Ln. Colleyville\, TX 76034
UID:e.642.22347
SEQUENCE:3
DTSTAMP:20260422T141522Z
URL:https://business.colleyvillechamber.org/events/details/cv-chamber-monthly-board-meeting-08-28-2030-22347
END:VEVENT

END:VCALENDAR
