BEGIN:VCALENDAR
VERSION:2.0
PRODID:-//ChamberMaster//Event Calendar 2.0//EN
METHOD:PUBLISH
X-PUBLISHED-TTL:P3D
REFRESH-INTERVAL:P3D
CALSCALE:GREGORIAN
BEGIN:VEVENT
DTSTART:20150301T010000Z
DTEND:20150301T050000Z
X-MICROSOFT-CDO-ALLDAYEVENT:FALSE
SUMMARY:Dancing For The Stars
DESCRIPTION:Presented by the Colleyville Rotary Club\, a unique\, fun-filled\, star-studded community-wide fundraiser\, featuring celebrity contestants from Colleyville and Grapevine.
X-ALT-DESC;FMTTYPE=text/html:Presented by the Colleyville Rotary Club\, a&nbsp\;unique\, fun-filled\, star-studded&nbsp\;community-wide&nbsp\;fundraiser\, featuring&nbsp\;celebrity contestants from Colleyville and Grapevine.
LOCATION:Colleyville Center 5301 Riverwalk Drive Colleyville\, TX 76034
UID:e.642.7512
SEQUENCE:3
DTSTAMP:20260421T123636Z
URL:https://business.colleyvillechamber.org/events/details/dancing-for-the-stars-02-28-2015-7512
END:VEVENT

END:VCALENDAR
