BEGIN:VCALENDAR
VERSION:2.0
PRODID:-//ChamberMaster//Event Calendar 2.0//EN
METHOD:PUBLISH
X-PUBLISHED-TTL:P3D
REFRESH-INTERVAL:P3D
CALSCALE:GREGORIAN
BEGIN:VEVENT
DTSTART:20130213T174500Z
DTEND:20130213T190000Z
X-MICROSOFT-CDO-ALLDAYEVENT:FALSE
SUMMARY:DBU Business Leadership Luncheon Series
DESCRIPTION:Lecture Topic:  The CEO Agenda:  Leading in the Connected Era\n\n	Angelia Pelham\, Vice President of Human Resources\, Innovative Medical Devise Solutions (IMDS)\n\n	\n\n	Event will run from 11:45 a.m. to 1:00 p.m..  Speaker begins at 12:05 p.m. \n\n	There is no cost for the lecture series or for the lunch.
X-ALT-DESC;FMTTYPE=text/html:<p>\n	Lecture Topic:&nbsp\; The CEO Agenda:&nbsp\; Leading in the Connected Era<br />\n	Angelia Pelham\, Vice President of Human Resources\, Innovative Medical Devise Solutions (IMDS)<br />\n	<br />\n	Event will run from 11:45 a.m. to 1:00 p.m..&nbsp\; Speaker begins at 12:05 p.m.&nbsp\;<br />\n	There is no cost for the lecture series or for the lunch.</p>\n
LOCATION:DBU Hurst-Colleyville 110 Grapevine Highway Hurst\, TX
UID:e.642.5118
SEQUENCE:3
DTSTAMP:20260423T053128Z
URL:https://business.colleyvillechamber.org/events/details/dbu-business-leadership-luncheon-series-02-13-2013-5118
END:VEVENT

END:VCALENDAR
