BEGIN:VCALENDAR
VERSION:2.0
PRODID:-//ChamberMaster//Event Calendar 2.0//EN
METHOD:PUBLISH
X-PUBLISHED-TTL:P3D
REFRESH-INTERVAL:P3D
CALSCALE:GREGORIAN
BEGIN:VEVENT
DTSTART:20130410T164500Z
DTEND:20130410T180000Z
X-MICROSOFT-CDO-ALLDAYEVENT:FALSE
SUMMARY:DBU Business Leadership Luncheon Series
DESCRIPTION:Lecture Topic:  Engaging Customers as Individuals\n\n	Lucy Dominguez\, Vice President of International Human Resources\, TGI Fridays\n\n	\n\n	Event will run from 11:45 a.m. to 1:00 p.m..  Speaker begins at 12:05 p.m. \n\n	There is no cost for the lecture series or for the lunch.
X-ALT-DESC;FMTTYPE=text/html:<p>\n	Lecture Topic:&nbsp\; Engaging Customers as Individuals<br />\n	Lucy Dominguez\,&nbsp\;Vice President of&nbsp\;International Human Resources\, TGI Fridays<br />\n	<br />\n	Event will run from 11:45 a.m. to 1:00 p.m..&nbsp\; Speaker begins at 12:05 p.m.&nbsp\;<br />\n	There is no cost for the lecture series or for the lunch.</p>\n
LOCATION:DBU Hurst-Colleyville 110 Grapevine Highway Hurst\, TX
UID:e.642.5119
SEQUENCE:3
DTSTAMP:20260423T001318Z
URL:https://business.colleyvillechamber.org/events/details/dbu-business-leadership-luncheon-series-04-10-2013-5119
END:VEVENT

END:VCALENDAR
