BEGIN:VCALENDAR
VERSION:2.0
PRODID:-//ChamberMaster//Event Calendar 2.0//EN
METHOD:PUBLISH
X-PUBLISHED-TTL:P3D
REFRESH-INTERVAL:P3D
CALSCALE:GREGORIAN
BEGIN:VEVENT
DTSTART:20120418T164500Z
DTEND:20120418T180000Z
X-MICROSOFT-CDO-ALLDAYEVENT:FALSE
SUMMARY:DBU Business Leadership Luncheon Series
DESCRIPTION:Sponsored by DBU Hurst-Colleyville\, DBU Graduate School of Business\, City of Hurst and City of Colleyville. \n\n\n\nTopic:  Building Bench Strength\n\nSpeaker:  Larry Solomon\n\nVice President of Human Resources\, Dr. Pepper Snapple
X-ALT-DESC;FMTTYPE=text/html:Sponsored by DBU Hurst-Colleyville\, DBU Graduate School of Business\, City of Hurst and City of Colleyville.&nbsp\;<br />\n<br />\nTopic:&nbsp\; Building Bench Strength<br />\nSpeaker:&nbsp\; Larry Solomon<br />\nVice President of Human Resources\, Dr. Pepper Snapple
LOCATION:110 Grapevine Highway Hurst\, Texas
UID:e.642.4843
SEQUENCE:3
DTSTAMP:20260423T195923Z
URL:https://business.colleyvillechamber.org/events/details/dbu-business-leadership-luncheon-series-04-18-2012-4843
END:VEVENT

END:VCALENDAR
