BEGIN:VCALENDAR
VERSION:2.0
PRODID:-//ChamberMaster//Event Calendar 2.0//EN
METHOD:PUBLISH
X-PUBLISHED-TTL:P3D
REFRESH-INTERVAL:P3D
CALSCALE:GREGORIAN
BEGIN:VEVENT
DTSTART:20120718T164500Z
DTEND:20120718T180000Z
X-MICROSOFT-CDO-ALLDAYEVENT:FALSE
SUMMARY:DBU Business Leadership Luncheon Series
DESCRIPTION:Sponsored by DBU Hurst-Colleyville\, DBU Graduate School of Business\, City of Hurst and City of Colleyville. \n\n\n\nTopic:  Crafting Corporate Strategy\n\nSpeaker:  Dr. Ross O'Brien\n\nAssistant Professor of Management\, Dallas Baptist University
X-ALT-DESC;FMTTYPE=text/html:Sponsored by DBU Hurst-Colleyville\, DBU Graduate School of Business\, City of Hurst and City of Colleyville.&nbsp\;<br />\n<br />\nTopic:&nbsp\;&nbsp\;Crafting Corporate Strategy<br />\nSpeaker:&nbsp\;&nbsp\;Dr. Ross O&#39\;Brien<br />\nAssistant Professor of Management\, Dallas Baptist University
LOCATION:110 Grapevine Highway Hurst\, Texas
UID:e.642.4844
SEQUENCE:3
DTSTAMP:20260423T152550Z
URL:https://business.colleyvillechamber.org/events/details/dbu-business-leadership-luncheon-series-07-18-2012-4844
END:VEVENT

END:VCALENDAR
