BEGIN:VCALENDAR
VERSION:2.0
PRODID:-//ChamberMaster//Event Calendar 2.0//EN
METHOD:PUBLISH
X-PUBLISHED-TTL:P3D
REFRESH-INTERVAL:P3D
CALSCALE:GREGORIAN
BEGIN:VEVENT
DTSTART:20121010T164500Z
DTEND:20121010T180000Z
X-MICROSOFT-CDO-ALLDAYEVENT:FALSE
SUMMARY:DBU Business Leadership Luncheon Series
DESCRIPTION:Lecture Topic:  Embracing Connectedness\n\n	Dr. Sandra Reid\, Chair of Graduate Business Programs\, DBU\n\n	Event will run from 11:45 a.m. to 1:00 p.m..  Speaker begins at 12:05 p.m. \n\n	There is no cost for the lecture series or for the lunch.
X-ALT-DESC;FMTTYPE=text/html:<p>\n	Lecture Topic:&nbsp\; Embracing Connectedness<br />\n	Dr. Sandra Reid\, Chair of Graduate Business Programs\, DBU<br />\n	Event will run from 11:45 a.m. to 1:00 p.m..&nbsp\; Speaker begins at 12:05 p.m.&nbsp\;<br />\n	There is no cost for the lecture series or for the lunch.</p>\n
LOCATION:DBU Hurst-Colleyville 110 Grapevine Highway Hurst\, TX
UID:e.642.5111
SEQUENCE:3
DTSTAMP:20260423T105557Z
URL:https://business.colleyvillechamber.org/events/details/dbu-business-leadership-luncheon-series-10-10-2012-5111
END:VEVENT

END:VCALENDAR
