BEGIN:VCALENDAR
VERSION:2.0
PRODID:-//ChamberMaster//Event Calendar 2.0//EN
METHOD:PUBLISH
X-PUBLISHED-TTL:P3D
REFRESH-INTERVAL:P3D
CALSCALE:GREGORIAN
BEGIN:VEVENT
DTSTART:20121114T174500Z
DTEND:20121114T190000Z
X-MICROSOFT-CDO-ALLDAYEVENT:FALSE
SUMMARY:DBU Business Leadership Luncheon Series
DESCRIPTION:Topic:  Coaching for Empowering Employees Through Values\n\nEd Hal\, Licensed Coaching Facilitator\n\n\n\nThe speaker begins at 12:05 p.m.  There is no cost for the lecture series or for the lunch.
X-ALT-DESC;FMTTYPE=text/html:Topic:&nbsp\; Coaching for Empowering Employees Through Values<br />\nEd Hal\, Licensed Coaching Facilitator<br />\n<br />\nThe speaker begins at 12:05 p.m.&nbsp\; There is no cost for the lecture series or for the lunch.
LOCATION:110 Grapevine Hwy Hurst\, TX 76054
UID:e.642.5117
SEQUENCE:3
DTSTAMP:20260423T104324Z
URL:https://business.colleyvillechamber.org/events/details/dbu-business-leadership-luncheon-series-11-14-2012-5117
END:VEVENT

END:VCALENDAR
