BEGIN:VCALENDAR
VERSION:2.0
PRODID:-//ChamberMaster//Event Calendar 2.0//EN
METHOD:PUBLISH
X-PUBLISHED-TTL:P3D
REFRESH-INTERVAL:P3D
CALSCALE:GREGORIAN
BEGIN:VEVENT
DTSTART:20150218T174500Z
DTEND:20150218T190000Z
X-MICROSOFT-CDO-ALLDAYEVENT:FALSE
SUMMARY:DBU - Leadership Empowerment Luncheon
DESCRIPTION:Lecture Topic:  Finding the Sweet Spot of Attrition\n\nSpeaker: Shauna Chaffin\, Vice President of Mobilization\, East-West Ministries International
X-ALT-DESC;FMTTYPE=text/html:Lecture Topic:&nbsp\; Finding the Sweet Spot of Attrition<br />\nSpeaker: Shauna Chaffin\, Vice President of Mobilization\, East-West Ministries International
LOCATION:
UID:e.642.7530
SEQUENCE:3
DTSTAMP:20260421T140648Z
URL:https://business.colleyvillechamber.org/events/details/dbu-leadership-empowerment-luncheon-02-18-2015-7530
END:VEVENT

END:VCALENDAR
