BEGIN:VCALENDAR
VERSION:2.0
PRODID:-//ChamberMaster//Event Calendar 2.0//EN
METHOD:PUBLISH
X-PUBLISHED-TTL:P3D
REFRESH-INTERVAL:P3D
CALSCALE:GREGORIAN
BEGIN:VEVENT
DTSTART:20150415T164500Z
DTEND:20150415T180000Z
X-MICROSOFT-CDO-ALLDAYEVENT:FALSE
SUMMARY:DBU - Leadership Empowerment Luncheon
DESCRIPTION:Lecture Topic:  Effective Execution - The Secret of Getting Things Done\n\nSpeaker: Dr. Adam Wright\, Vice President and Dean\, Gary Cook School of Leadership\, Dallas Baptist University
X-ALT-DESC;FMTTYPE=text/html:Lecture Topic:&nbsp\; Effective Execution - The Secret of Getting Things Done<br />\nSpeaker: Dr. Adam Wright\, Vice President and Dean\, Gary Cook School of Leadership\, Dallas Baptist University
LOCATION:
UID:e.642.7531
SEQUENCE:3
DTSTAMP:20260421T100055Z
URL:https://business.colleyvillechamber.org/events/details/dbu-leadership-empowerment-luncheon-04-15-2015-7531
END:VEVENT

END:VCALENDAR
