BEGIN:VCALENDAR
VERSION:2.0
PRODID:-//ChamberMaster//Event Calendar 2.0//EN
METHOD:PUBLISH
X-PUBLISHED-TTL:P3D
REFRESH-INTERVAL:P3D
CALSCALE:GREGORIAN
BEGIN:VEVENT
DTSTART:20140212T174500Z
DTEND:20140212T190000Z
X-MICROSOFT-CDO-ALLDAYEVENT:FALSE
SUMMARY:DBU Leadership Empowerment Luncheon Series
DESCRIPTION:Topic:  Leading by Example:  Creating Ambassadors for Your Brand\n\n\n\nSpeaker: Lane Palmer\, Vice President\, Central Region National Retail Sales\, Coca-Cola Refreshments
X-ALT-DESC;FMTTYPE=text/html:<strong>Topic:</strong>&nbsp\; Leading by Example:&nbsp\; Creating Ambassadors for Your Brand<br />\n<br />\n<strong>Speaker:</strong>&nbsp\;Lane Palmer\, Vice President\, Central Region National Retail Sales\, Coca-Cola Refreshments<br />\n<br />\n
LOCATION:Dallas Baptist University Hurst-Colleyville 110 Grapevine Highway Hurst\, TX 76054
UID:e.642.5970
SEQUENCE:3
DTSTAMP:20260422T084717Z
URL:https://business.colleyvillechamber.org/events/details/dbu-leadership-empowerment-luncheon-series-02-12-2014-5970
END:VEVENT

END:VCALENDAR
