BEGIN:VCALENDAR
VERSION:2.0
PRODID:-//ChamberMaster//Event Calendar 2.0//EN
METHOD:PUBLISH
X-PUBLISHED-TTL:P3D
REFRESH-INTERVAL:P3D
CALSCALE:GREGORIAN
BEGIN:VEVENT
DTSTART:20140409T164500Z
DTEND:20140409T180000Z
X-MICROSOFT-CDO-ALLDAYEVENT:FALSE
SUMMARY:DBU Leadership Empowerment Luncheon Series
DESCRIPTION:Topic:  How to Deal with Difficult People\n\n\n\nSpeaker: Dr. Jennifer Calhoun\, Assistance Professor of Management\, Dallas Baptist University
X-ALT-DESC;FMTTYPE=text/html:<strong>Topic:</strong>&nbsp\; How to Deal with Difficult People<br />\n<br />\n<strong>Speaker:</strong> Dr. Jennifer Calhoun\, Assistance Professor of Management\, Dallas Baptist University
LOCATION:Dallas Baptist University Hurst-Colleyville 110 Grapevine Highway Hurst\, TX 76054
UID:e.642.5971
SEQUENCE:3
DTSTAMP:20260422T065854Z
URL:https://business.colleyvillechamber.org/events/details/dbu-leadership-empowerment-luncheon-series-04-09-2014-5971
END:VEVENT

END:VCALENDAR
