BEGIN:VCALENDAR
VERSION:2.0
PRODID:-//ChamberMaster//Event Calendar 2.0//EN
METHOD:PUBLISH
X-PUBLISHED-TTL:P3D
REFRESH-INTERVAL:P3D
CALSCALE:GREGORIAN
BEGIN:VEVENT
DTSTART:20140716T164500Z
DTEND:20140716T180000Z
X-MICROSOFT-CDO-ALLDAYEVENT:FALSE
SUMMARY:DBU Leadership Empowerment Luncheon Series
DESCRIPTION:Topic:  Mentoring and Equipping the Next Generation\n\n\n\nSpeaker: Diane McLean\, Vice President\, Supplier Processes\, McKesson Corporation
X-ALT-DESC;FMTTYPE=text/html:<strong>Topic:</strong>&nbsp\;&nbsp\;Mentoring and Equipping the Next Generation<br />\n<br />\n<strong>Speaker:</strong>&nbsp\;Diane McLean\, Vice President\, Supplier Processes\, McKesson Corporation<br />\n<br />\n
LOCATION:Dallas Baptist University Hurst-Colleyville 110 Grapevine Highway Hurst\, TX 76054
UID:e.642.5972
SEQUENCE:3
DTSTAMP:20260422T013856Z
URL:https://business.colleyvillechamber.org/events/details/dbu-leadership-empowerment-luncheon-series-07-16-2014-5972
END:VEVENT

END:VCALENDAR
