BEGIN:VCALENDAR
VERSION:2.0
PRODID:-//ChamberMaster//Event Calendar 2.0//EN
METHOD:PUBLISH
X-PUBLISHED-TTL:P3D
REFRESH-INTERVAL:P3D
CALSCALE:GREGORIAN
BEGIN:VEVENT
DTSTART:20131009T164500Z
DTEND:20131009T180000Z
X-MICROSOFT-CDO-ALLDAYEVENT:FALSE
SUMMARY:DBU Leadership Empowerment Luncheon Series
DESCRIPTION:Topic:  The Affordable Healthcare Act's Impact on North Texas:  What Local Healthcare Systems are Doing to Reduce Costs\, Increase Access\, and Improve Quality\n\n\n\nSpeaker: Krystal Mims\, Senior Vice President\, Care Continuum and Collaborations\, Texas Health Resources
X-ALT-DESC;FMTTYPE=text/html:<strong>Topic:</strong>&nbsp\; The Affordable Healthcare Act&#39\;s Impact on North Texas:&nbsp\; What Local Healthcare Systems are Doing to Reduce Costs\, Increase Access\, and Improve Quality<br />\n<br />\n<strong>Speaker:</strong> Krystal Mims\, Senior Vice President\, Care Continuum and Collaborations\, Texas Health Resources<br />\n<br />\n
LOCATION:Dallas Baptist University Hurst-Colleyville 110 Grapevine Highway Hurst\, TX 76054
UID:e.642.5968
SEQUENCE:3
DTSTAMP:20260422T150332Z
URL:https://business.colleyvillechamber.org/events/details/dbu-leadership-empowerment-luncheon-series-10-09-2013-5968
END:VEVENT

END:VCALENDAR
