BEGIN:VCALENDAR
VERSION:2.0
PRODID:-//ChamberMaster//Event Calendar 2.0//EN
METHOD:PUBLISH
X-PUBLISHED-TTL:P3D
REFRESH-INTERVAL:P3D
CALSCALE:GREGORIAN
BEGIN:VEVENT
DTSTART:20131113T174500Z
DTEND:20131113T190000Z
X-MICROSOFT-CDO-ALLDAYEVENT:FALSE
SUMMARY:DBU Leadership Empowerment Luncheon Series
DESCRIPTION:Topic:  Leading from the Bench:  Servant Leadership in Action\n\n\n\nSpeaker: Dan Heefner\, Head Baseball Coach\, Dallas Baptist University
X-ALT-DESC;FMTTYPE=text/html:<strong>Topic:</strong>&nbsp\; Leading from the Bench:&nbsp\; Servant Leadership in Action<br />\n<br />\n<strong>Speaker:</strong>&nbsp\;Dan Heefner\, Head Baseball Coach\, Dallas Baptist University<br />\n<br />\n
LOCATION:Dallas Baptist University Hurst-Colleyville 110 Grapevine Highway Hurst\, TX 76054
UID:e.642.5969
SEQUENCE:3
DTSTAMP:20260422T130546Z
URL:https://business.colleyvillechamber.org/events/details/dbu-leadership-empowerment-luncheon-series-11-13-2013-5969
END:VEVENT

END:VCALENDAR
