BEGIN:VCALENDAR
VERSION:2.0
PRODID:-//ChamberMaster//Event Calendar 2.0//EN
METHOD:PUBLISH
X-PUBLISHED-TTL:P3D
REFRESH-INTERVAL:P3D
CALSCALE:GREGORIAN
BEGIN:VEVENT
DTSTART:20231207T173000Z
DTEND:20231207T190000Z
X-MICROSOFT-CDO-ALLDAYEVENT:FALSE
SUMMARY:December Monthly Luncheon 2023
DESCRIPTION:Join us for our December Monthly Luncheon\n\n\n\nNSA CPAE Speaker Hall of Fame\, Christine Cashen\n\nSleighing Stress: Mastering the Art of a Fun Holiday Season!\n\nSponsored by: CWD\n\n\n\nDrawing for Dollars $450\n\nSponsored by: Jason Ridley Agency\n\n\n\nBlackstone Griddle\n\nSponsored by: Houser Firm & Smart Realty
X-ALT-DESC;FMTTYPE=text/html:<p>&nbsp\; &nbsp\; &nbsp\; &nbsp\; &nbsp\; &nbsp\; &nbsp\; &nbsp\; &nbsp\; &nbsp\; &nbsp\;&nbsp\; &nbsp\;<span style="font-family: verdana\; font-size: 16px\; text-align: center\;">Join us for our December&nbsp\;Monthly Luncheon<br />\n<br />\nNSA CPAE Speaker Hall of Fame\, Christine Cashen<br />\nSleighing Stress: Mastering the Art of a Fun Holiday Season!<br />\nSponsored by: CWD<br />\n<br />\nDrawing for Dollars $450<br />\nSponsored by: Jason Ridley Agency<br />\n<br />\nBlackstone Griddle<br />\nSponsored by: Houser Firm &amp\; Smart Realty</span><br />\n<br />\n&nbsp\;</p>\n
LOCATION:Colleyville Center 5301 Riverwalk Dr\, Colleyville\, TX 76034
UID:e.642.27153
SEQUENCE:3
DTSTAMP:20260423T152538Z
URL:https://business.colleyvillechamber.org/events/details/december-monthly-luncheon-2023-27153
END:VEVENT

END:VCALENDAR
