BEGIN:VCALENDAR
VERSION:2.0
PRODID:-//ChamberMaster//Event Calendar 2.0//EN
METHOD:PUBLISH
X-PUBLISHED-TTL:P3D
REFRESH-INTERVAL:P3D
CALSCALE:GREGORIAN
BEGIN:VEVENT
DTSTART:20141122T153000Z
DTEND:20141122T180000Z
X-MICROSOFT-CDO-ALLDAYEVENT:FALSE
SUMMARY:dentaleaf Free Yoga Class
DESCRIPTION:Please join us on November 22nd for two sessions of yoga \n\n1st Session: 9:30am\n\n2nd Session: 11:00am\n\n\n\nWater\, towels\, snacks provided. \n\n\n\nPlease bring your yoga mats and smiles! \n\n\n\nSee you soon!!
X-ALT-DESC;FMTTYPE=text/html:Please join us on November 22nd for two sessions of yoga&nbsp\;<br />\n1st Session: 9:30am<br />\n2nd Session: 11:00am<br />\n<br />\nWater\, towels\, snacks provided.&nbsp\;<br />\n<br />\nPlease bring your yoga mats and smiles!&nbsp\;<br />\n<br />\nSee you soon!!
LOCATION:6207 Colleyville Blvd Suite 150 Colleyville TX 76034
UID:e.642.7250
SEQUENCE:3
DTSTAMP:20260421T172134Z
URL:https://business.colleyvillechamber.org/events/details/dentaleaf-free-yoga-class-11-22-2014-7250
END:VEVENT

END:VCALENDAR
