BEGIN:VCALENDAR
VERSION:2.0
PRODID:-//ChamberMaster//Event Calendar 2.0//EN
METHOD:PUBLISH
X-PUBLISHED-TTL:P3D
REFRESH-INTERVAL:P3D
CALSCALE:GREGORIAN
BEGIN:VEVENT
DTSTART:20120825T130000Z
DTEND:20120825T180000Z
X-MICROSOFT-CDO-ALLDAYEVENT:FALSE
SUMMARY:Dog Days of Summer Event
DESCRIPTION:La-De-Da Pet Spa would like to invite you as our valued friend and customer to the "DOG DAYS OF SUMMER EVENT". Check out our booth at Delaney Vineyards on this Saturday\, 25th of August. 2000 Champagne Blvd\, Grapevine.\n												\n													We will be at this Event from 8 am -1pm with giveaways\, retail sales with 25-50% off all products. All Dogs welcome!\n												\n													 \n												\n													See You There! \n												\n													We appreciate your business.\n											\n										\n									\n								\n								\n									\n										\n											\n												Lisa K Stokes\n\n												La De Da Pet Spa DFW LLC
X-ALT-DESC;FMTTYPE=text/html:<table border="0" cellpadding="1" cellspacing="0" style="width: 600px" width="600">\n	<tbody>\n		<tr>\n			<td align="left" bgcolor="#000000" style="padding-bottom: 1px\; background-color: #000000\; padding-left: 1px\; padding-right: 1px\; padding-top: 1px" valign="top">\n				<table bgcolor="#ffffff" border="0" cellpadding="0" cellspacing="0" style="background-color: #ffffff" width="100%">\n					<tbody>\n						<tr>\n							<td style="padding-bottom: 5px\; padding-left: 5px\; padding-right: 5px\; padding-top: 5px" valign="top" width="100%">\n								<table border="0" cellpadding="5" cellspacing="0" id="content_LETTER.BLOCK4" style="margin-bottom: 6px" width="100%">\n									<tbody>\n										<tr>\n											<td style="font-family: arial\, helvetica\, sans-serif\; color: #666666\; font-size: 14pt" valign="top">\n												<div style="font-family: arial narrow\, arial mt condensed light\, sans-serif\; color: #000000\; font-size: 24pt">\n													<span style="font-size: 14px">La-De-Da Pet Spa would like to invite you as our valued friend and customer to the &quot\;DOG DAYS OF SUMMER EVENT&quot\;. Check out our booth at Delaney Vineyards on this Saturday\, 25th of August. 2000 Champagne Blvd\, Grapevine.</span></div>\n												<div style="font-family: arial narrow\, arial mt condensed light\, sans-serif\; color: #000000\; font-size: 24pt">\n													<span style="font-size: 14px">We will be at this Event from 8 am -1pm with giveaways\, retail sales with 25-50% off all products. All Dogs welcome!</span></div>\n												<div style="font-family: arial narrow\, arial mt condensed light\, sans-serif\; color: #000000\; font-size: 24pt">\n													<span style="font-size: 14px">&nbsp\;</span></div>\n												<div style="font-family: arial narrow\, arial mt condensed light\, sans-serif\; color: #000000\; font-size: 24pt">\n													<span style="font-size: 14px">See You There! </span></div>\n												<div>\n													<span style="font-size: 14px">We appreciate your business.</span></div>\n											</td>\n										</tr>\n									</tbody>\n								</table>\n								<table border="0" cellpadding="5" cellspacing="0" style="margin-bottom: 6px" width="100%">\n									<tbody>\n										<tr>\n											<td align="left" style="font-family: arial\, helvetica\, sans-serif\; color: #666666\; font-size: 10pt" valign="bottom">\n												<span style="font-size: 14px"><b>Lisa K Stokes</b><br />\n												<b>La De Da Pet Spa DFW LLC</b></span></td>\n										</tr>\n									</tbody>\n								</table>\n							</td>\n						</tr>\n					</tbody>\n				</table>\n			</td>\n		</tr>\n		<tr>\n			<td align="left" height="10" width="100%">\n				<table border="0" cellpadding="0" cellspacing="0" width="100%">\n					<tbody>\n						<tr>\n							<td align="center" height="15" style="height: 15px" valign="top">\n								<span style="font-size: 14px">&nbsp\;</span></td>\n						</tr>\n					</tbody>\n				</table>\n			</td>\n		</tr>\n	</tbody>\n</table>\n
LOCATION:Delaney Vineyards 2000 Champagne Blvd. Grapevine
UID:e.642.5075
SEQUENCE:3
DTSTAMP:20260423T140509Z
URL:https://business.colleyvillechamber.org/events/details/dog-days-of-summer-event-08-25-2012-5075
END:VEVENT

END:VCALENDAR
