BEGIN:VCALENDAR
VERSION:2.0
PRODID:-//ChamberMaster//Event Calendar 2.0//EN
METHOD:PUBLISH
X-PUBLISHED-TTL:P3D
REFRESH-INTERVAL:P3D
CALSCALE:GREGORIAN
BEGIN:VEVENT
DTSTART:20141002T150000Z
DTEND:20141005T000000Z
X-MICROSOFT-CDO-ALLDAYEVENT:FALSE
SUMMARY:Dolby Atmos Debut
DESCRIPTION:You are cordially invited to attend our local launch of Dolby Laboratories' groundbreaking new home theater audio format\, Dolby Atmos .\n\nWith Dolby Atmos \, sound comes alive from all directions\, including overhead\, to fill the home theater with astonishing clarity\, power\, detail\, and depth.\n\nDolby Atmos  is available now and with a simple retrofit and upgrade of equipment can be integrated into most existing Media Rooms. \n\nBeginning October 2nd\, we will conduct Dolby Atmos demonstrations and answer questions for Colleyville area residents and businesses.  \n\nWe are very excited to be one of the first to market with this exciting new experience and invite you to attend this special Dolby Atmos launch event.\n\nHome Theater Technologies is also proud to be among the first in the Dallas/Fort Worth market to partner with Clare Controls. A cloud based home automation system with solutions for every budget. Come visit our Colleyville location for a full presentation.
X-ALT-DESC;FMTTYPE=text/html:<br />\nYou are cordially invited to attend our local launch of Dolby Laboratories&#39\; groundbreaking new home theater audio format\,&nbsp\;Dolby Atmos&reg\;.<br />\nWith Dolby Atmos&reg\;\, sound comes alive from all directions\, including overhead\, to fill the home theater with astonishing clarity\, power\, detail\, and depth.<br />\nDolby Atmos&reg\;&nbsp\;is available now and with a simple retrofit and upgrade of equipment can be integrated into most existing Media Rooms.&nbsp\;<br />\nBeginning October 2nd\, we will conduct Dolby Atmos demonstrations and answer questions for Colleyville area residents and businesses.&nbsp\;&nbsp\;<br />\nWe are very excited to be one of the first to market with this exciting new experience and invite you to attend this special Dolby Atmos launch event.<br />\nHome Theater&nbsp\;Technologies is also proud to be among the first in the&nbsp\;Dallas/Fort Worth market to partner with Clare Controls. A cloud based home automation system with solutions for every budget. Come visit our Colleyville location for a full presentation.<br />\n&nbsp\;<br />\n&nbsp\;
LOCATION:Home Theater Technologies 6100 Colleyville Blvd. Ste 140
UID:e.642.6983
SEQUENCE:3
DTSTAMP:20260421T185521Z
URL:https://business.colleyvillechamber.org/events/details/dolby-atmos-debut-10-02-2014-6983
END:VEVENT

END:VCALENDAR
