BEGIN:VCALENDAR
VERSION:2.0
PRODID:-//ChamberMaster//Event Calendar 2.0//EN
METHOD:PUBLISH
X-PUBLISHED-TTL:P3D
REFRESH-INTERVAL:P3D
CALSCALE:GREGORIAN
BEGIN:VEVENT
DTSTART:20121218T160000Z
DTEND:20121219T010000Z
X-MICROSOFT-CDO-ALLDAYEVENT:FALSE
SUMMARY:Drive Away Hunger - CEC Food Pantry and Five Star Ford
DESCRIPTION:
X-ALT-DESC;FMTTYPE=text/html:
LOCATION:
UID:e.642.5158
SEQUENCE:3
DTSTAMP:20260423T070639Z
URL:https://business.colleyvillechamber.org/events/details/drive-away-hunger-cec-food-pantry-and-five-star-ford-12-18-2012-5158
END:VEVENT

END:VCALENDAR
