BEGIN:VCALENDAR
VERSION:2.0
PRODID:-//ChamberMaster//Event Calendar 2.0//EN
METHOD:PUBLISH
X-PUBLISHED-TTL:P3D
REFRESH-INTERVAL:P3D
CALSCALE:GREGORIAN
BEGIN:VEVENT
DTSTART:20130328T123000Z
DTEND:20130328T140000Z
X-MICROSOFT-CDO-ALLDAYEVENT:FALSE
SUMMARY:Early Riser Seminar
DESCRIPTION:Presented by: i5 Web Works. \n\nSpeakers:  Michael Burns\, Carita Weaver and Stephanie Drenka.\n\nTopic: Social Media/ Website Integration
X-ALT-DESC;FMTTYPE=text/html:Presented by: i5 Web Works.&nbsp\;<br />\nSpeakers:&nbsp\; Michael Burns\, Carita Weaver and Stephanie Drenka.<br />\nTopic: Social Media/ Website Integration
LOCATION:Dallas Baptist University - Hurst-Colleyville 110 Grapevine Highway Hurst\, TX 76054
UID:e.642.5193
SEQUENCE:3
DTSTAMP:20260423T033712Z
URL:https://business.colleyvillechamber.org/events/details/early-riser-seminar-03-28-2013-5193
END:VEVENT

END:VCALENDAR
