BEGIN:VCALENDAR
VERSION:2.0
PRODID:-//ChamberMaster//Event Calendar 2.0//EN
METHOD:PUBLISH
X-PUBLISHED-TTL:P3D
REFRESH-INTERVAL:P3D
CALSCALE:GREGORIAN
BEGIN:VEVENT
DTSTART:20130612T123000Z
DTEND:20130612T140000Z
X-MICROSOFT-CDO-ALLDAYEVENT:FALSE
SUMMARY:Early Riser Seminar
DESCRIPTION:Guest Speaker:  Jim Lewis\, SCORE\n\nTopic:  The impact of mentors and advisors to small business\n\nFree to members\, non-members $25.00
X-ALT-DESC;FMTTYPE=text/html:Guest Speaker:&nbsp\; Jim Lewis\, SCORE<br />\nTopic:&nbsp\; The impact of mentors and advisors to small business<br />\nFree to members\, non-members $25.00
LOCATION:Colleyville Public Library\, 2nd Floor
UID:e.642.5653
SEQUENCE:3
DTSTAMP:20260422T222401Z
URL:https://business.colleyvillechamber.org/events/details/early-riser-seminar-06-12-2013-5653
END:VEVENT

END:VCALENDAR
