BEGIN:VCALENDAR
VERSION:2.0
PRODID:-//ChamberMaster//Event Calendar 2.0//EN
METHOD:PUBLISH
X-PUBLISHED-TTL:P3D
REFRESH-INTERVAL:P3D
CALSCALE:GREGORIAN
BEGIN:VEVENT
DTSTART:20121212T133000Z
DTEND:20121212T150000Z
X-MICROSOFT-CDO-ALLDAYEVENT:FALSE
SUMMARY:Early Riser Seminar
DESCRIPTION:Join us for the first Early Riser Seminar\, a benefit for Chamber members designed to help you learn and grow your business. Topics will be chosen based on the seminar survey which was completed this past summer. Each seminar will be delivered by an industry expert. No reservation fee. Please reserve your space.\n\n		\n\n		December 12: Tax Tips\n\n		Alan Green\, CPA of Ken Green and Company will address:\n	\n		  Commonly misunderstood tax issues\n	\n		  Issues that will get you audited every time\n	\n		  Expiration of the Bush tax cuts.\n\n		\n\n		Email erin@colleyvillechamber.org to reserve your spot.
X-ALT-DESC;FMTTYPE=text/html:<div style="color: gray">\n	<p align="left">\n		<font face="MinionPro-Regular" size="3"><font face="MinionPro-Regular" size="3">Join us for the first Early Riser Seminar\, a benefit </font></font><font face="MinionPro-Regular" size="3"><font face="MinionPro-Regular" size="3">for Chamber members designed to help </font></font><font face="MinionPro-Regular" size="3"><font face="MinionPro-Regular" size="3">you learn and grow your business. Topics will </font></font><font face="MinionPro-Regular" size="3"><font face="MinionPro-Regular" size="3">be chosen based on the seminar survey which </font></font><font face="MinionPro-Regular" size="3"><font face="MinionPro-Regular" size="3">was completed this past summer. Each seminar </font></font><font face="MinionPro-Regular" size="3"><font face="MinionPro-Regular" size="3">will be delivered by an industry expert. </font></font><font face="MinionPro-Regular" size="3"><font face="MinionPro-Regular" size="3">No reservation fee. Please reserve your space.<br />\n		<br />\n		December 12: Tax Tips<br />\n		<font face="MinionPro-Regular">Alan Green\, CPA of Ken Green and&nbsp\;</font><font face="MinionPro-Regular">Company will address:</font></font></font></p>\n	<p align="left">\n		<font face="MinionPro-Regular" size="3"><font face="MinionPro-Regular" size="3"><font face="MinionPro-Regular" size="3"><font face="MinionPro-Regular" size="3">&bull\; </font></font><font face="MinionPro-Regular" size="3"><font face="MinionPro-Regular" size="3">Commonly misunderstood tax issues</font></font></font></font></p>\n	<p align="left">\n		<font face="MinionPro-Regular" size="3"><font face="MinionPro-Regular" size="3"><font face="MinionPro-Regular" size="3"><font face="MinionPro-Regular" size="3">&bull\; </font></font><font face="MinionPro-Regular" size="3"><font face="MinionPro-Regular" size="3">Issues that will get you audited every time</font></font></font></font></p>\n	<p>\n		<font face="MinionPro-Regular" size="3"><font face="MinionPro-Regular" size="3"><font face="MinionPro-Regular" size="3"><font face="MinionPro-Regular" size="3">&bull\; </font></font><font face="MinionPro-Regular" size="3"><font face="MinionPro-Regular" size="3">Expiration of the Bush tax cuts.<br />\n		<br />\n		Email <a href="mailto:erin@colleyvillechamber.org">erin@colleyvillechamber.org</a> to reserve your spot. </font></font></font></font></p>\n	<p align="left">\n		<font face="MinionPro-Regular" size="3"><font face="MinionPro-Regular" size="3"><font face="MinionPro-Regular" size="3"><font face="MinionPro-Regular" size="3"><span _fck_bookmark="1" style="display: none">&nbsp\;</span></font></font></font></font></p>\n</div>\n
LOCATION:Worthington Bank 4814 Colleyville Blvd. Colleyville\, TX 76034
UID:e.642.5135
SEQUENCE:3
DTSTAMP:20260423T070047Z
URL:https://business.colleyvillechamber.org/events/details/early-riser-seminar-12-12-2012-5135
END:VEVENT

END:VCALENDAR
