BEGIN:VCALENDAR
VERSION:2.0
PRODID:-//ChamberMaster//Event Calendar 2.0//EN
METHOD:PUBLISH
X-PUBLISHED-TTL:P3D
REFRESH-INTERVAL:P3D
CALSCALE:GREGORIAN
BEGIN:VEVENT
DTSTART:20150328T180000Z
DTEND:20150328T200000Z
X-MICROSOFT-CDO-ALLDAYEVENT:FALSE
SUMMARY:Easter Egg-Stravaganza
DESCRIPTION:Saturday\, March 28\n\n\n\n1:00 pm - 3:00 pm\n\n\n\nCenter Court\n\n\n\nHop into spring with the Kidgits Easter Egg-stravaganza event! This event is a celebration of the arrival of Spring and our favorite floppy-eared friend\, the Easter Bunny! Kidgits will enjoy decorating their own Easter Bucket* and other fun activities including Bunny Hop sack races\, carnival games\, balloon twisters & more.\n\n\n\nThere will be hands-on craft projects\, a special Wizard of Oz performance by our friends from Artie's Playhouse\, plus yummy snacks from the North East Mall eateries. Each Kidgits member will receive a goody bag filled with prizes and even a coupon good toward photos with the Easter Bunny. The Easter Bunny will be available for visits and photo purchases starting at 10:00 am. *While supplies last.\n\n\n\nThe event is free for Simon Kidgits Club Members\; $5 to become a member.
X-ALT-DESC;FMTTYPE=text/html:Saturday\, March 28<br />\n<br />\n1:00 pm - 3:00 pm<br />\n<br />\nCenter Court<br />\n<br />\nHop into spring with the Kidgits Easter Egg-stravaganza event! This event is a celebration of the arrival of Spring and our favorite floppy-eared friend\, the Easter Bunny! Kidgits will enjoy decorating their own Easter Bucket* and other fun activities including Bunny Hop sack races\, carnival games\, balloon twisters &amp\; more.<br />\n<br />\nThere will be hands-on craft projects\, a special Wizard of Oz performance by our friends from Artie&#39\;s Playhouse\, plus yummy snacks from the North East Mall eateries. Each Kidgits member will receive a goody bag filled with prizes and even a coupon good toward photos with the Easter Bunny. The Easter Bunny will be available for visits and photo purchases starting at 10:00 am. *While supplies last.<br />\n<br />\nThe event is free for Simon Kidgits Club Members\; $5 to become a member.
LOCATION:North East Mall Center Court
UID:e.642.7527
SEQUENCE:3
DTSTAMP:20260421T111437Z
URL:https://business.colleyvillechamber.org/events/details/easter-egg-stravaganza-03-28-2015-7527
END:VEVENT

END:VCALENDAR
