BEGIN:VCALENDAR
VERSION:2.0
PRODID:-//ChamberMaster//Event Calendar 2.0//EN
METHOD:PUBLISH
X-PUBLISHED-TTL:P3D
REFRESH-INTERVAL:P3D
CALSCALE:GREGORIAN
BEGIN:VEVENT
DTSTART;VALUE=DATE:20150403
DTEND;VALUE=DATE:20150406
TRANSP:TRANSPARENT
X-MICROSOFT-CDO-ALLDAYEVENT:TRUE
SUMMARY:Easter Hours
DESCRIPTION:April 3 5\n\n\n\nFriday & Saturday: 10 am - 9 pm\n\nSunday: 12 - 6 pm \n\n\n\nWe will be open Easter Weekend for your shopping enjoyment. Shop your favorite stores\, visit the Easter Bunny or dine out at one of our restaurants during the extended holiday weekend.
X-ALT-DESC;FMTTYPE=text/html:April 3&ndash\;5<br />\n<br />\nFriday &amp\; Saturday: 10 am - 9 pm<br />\nSunday: 12 - 6 pm&nbsp\;<br />\n<br />\nWe will be open Easter Weekend for your shopping enjoyment.&nbsp\;Shop your favorite stores\, visit the Easter Bunny or dine out&nbsp\;at one of our restaurants during the extended holiday weekend.
LOCATION:North East Mall
UID:e.642.7558
SEQUENCE:3
DTSTAMP:20260421T095652Z
URL:https://business.colleyvillechamber.org/events/details/easter-hours-04-03-2015-7558
END:VEVENT

END:VCALENDAR
