BEGIN:VCALENDAR
VERSION:2.0
PRODID:-//ChamberMaster//Event Calendar 2.0//EN
METHOD:PUBLISH
X-PUBLISHED-TTL:P3D
REFRESH-INTERVAL:P3D
CALSCALE:GREGORIAN
BEGIN:VEVENT
DTSTART;VALUE=DATE:20150314
DTEND;VALUE=DATE:20150405
TRANSP:TRANSPARENT
X-MICROSOFT-CDO-ALLDAYEVENT:TRUE
SUMMARY:Easter Photo Experience
DESCRIPTION:March 14 - April 4\n\n\n\nCenter Court\n\n\n\nNorth East Mall is proud to present the Easter Bunny in his beautiful flower garden set for special visits and photo purchases this spring\, March 14th through April 4th. \n\n\n\nPictures will be made using the latest in digital technology allowing families to purchase a variety of photo packages instantly. Each child visiting the Easter Bunny will receive a fun activity book\, sticker sheet and a goody bag\, while supplies last. \n\n\n\nBook online and skip the line. Reserve your bunny date atsimon.noerrbunny.com.\n\n\n\nEaster Bunny Hours:\n\nMarch 14 10:00 am - 8:00 pm\n\nMarch 15 12:00 pm   6:00 pm\n\nMarch 16 11:00 am   8:00 pm\n\nMarch 17 11:00 am   8:00 pm\n\nMarch 18 11:00 am   8:00 pm\n\nMarch 19 11:00 am   8:00 pm\n\nMarch 20 10:00 am   8:00 pm\n\nMarch 21 10:00 am   8:00 pm\n\nMarch 22 12:00 pm   6:00 pm\n\nMarch 23 11:00 am   8:00 pm\n\nMarch 24 11:00 am   8:00 pm\n\nMarch 25 11:00 am   8:00 pm\n\nMarch 26 11:00 am   8:00 pm\n\nMarch 27 10:00 am   8:30 pm\n\nMarch 28 10:00 am   8:00 pm\n\nMarch 29 12:00 pm - 6:00 pm\n\nMarch 30 10:00 am - 8:30 pm\n\nMarch 31 10:00 am - 8:30 pm\n\nApril 1 10:00 am   8:30 pm\n\nApril 2 10:00 am   8:30 pm\n\nApril 3 10:00 am   9:00 pm\n\nApril 4 10:00 am   9:00 pm\n\n\n\nPackage prices vary.\n\n\n\nNorth East Mall Easter Photo Experience sponsored by: GYMBOREE
X-ALT-DESC;FMTTYPE=text/html:March 14 - April 4<br />\n<br />\nCenter Court<br />\n<br />\nNorth East Mall is proud to present the Easter Bunny in his beautiful flower garden set for special visits and photo purchases this spring\, March 14th through April 4th.&nbsp\;<br />\n<br />\nPictures will be made using the latest in digital technology allowing families to purchase a variety of photo packages instantly. Each child visiting the Easter Bunny will receive a fun activity book\, sticker sheet and a goody bag\, while supplies last.&nbsp\;<br />\n<br />\nBook online and skip the line. Reserve your bunny date atsimon.noerrbunny.com.<br />\n<br />\nEaster Bunny Hours:<br />\nMarch 14 10:00 am - 8:00 pm<br />\nMarch 15 12:00 pm &ndash\; 6:00 pm<br />\nMarch 16 11:00 am &ndash\; 8:00 pm<br />\nMarch 17 11:00 am &ndash\; 8:00 pm<br />\nMarch 18 11:00 am &ndash\; 8:00 pm<br />\nMarch 19 11:00 am &ndash\; 8:00 pm<br />\nMarch 20 10:00 am &ndash\; 8:00 pm<br />\nMarch 21 10:00 am &ndash\; 8:00 pm<br />\nMarch 22 12:00 pm &ndash\; 6:00 pm<br />\nMarch 23 11:00 am &ndash\; 8:00 pm<br />\nMarch 24 11:00 am &ndash\; 8:00 pm<br />\nMarch 25 11:00 am &ndash\; 8:00 pm<br />\nMarch 26 11:00 am &ndash\; 8:00 pm<br />\nMarch 27 10:00 am &ndash\; 8:30 pm<br />\nMarch 28 10:00 am &ndash\; 8:00 pm<br />\nMarch 29 12:00 pm - 6:00 pm<br />\nMarch 30 10:00 am - 8:30 pm<br />\nMarch 31 10:00 am - 8:30 pm<br />\nApril 1 10:00 am &ndash\; 8:30 pm<br />\nApril 2 10:00 am &ndash\; 8:30 pm<br />\nApril 3 10:00 am &ndash\; 9:00 pm<br />\nApril 4 10:00 am &ndash\; 9:00 pm<br />\n<br />\nPackage prices vary.<br />\n<br />\nNorth East Mall Easter Photo Experience sponsored by: GYMBOREE
LOCATION:North East Mall Center Court
UID:e.642.7526
SEQUENCE:3
DTSTAMP:20260421T083851Z
URL:https://business.colleyvillechamber.org/events/details/easter-photo-experience-03-14-2015-7526
END:VEVENT

END:VCALENDAR
