BEGIN:VCALENDAR
VERSION:2.0
PRODID:-//ChamberMaster//Event Calendar 2.0//EN
METHOD:PUBLISH
X-PUBLISHED-TTL:P3D
REFRESH-INTERVAL:P3D
CALSCALE:GREGORIAN
BEGIN:VEVENT
DTSTART;VALUE=DATE:20140329
DTEND;VALUE=DATE:20140420
TRANSP:TRANSPARENT
X-MICROSOFT-CDO-ALLDAYEVENT:TRUE
SUMMARY:Easter Photo Experience
DESCRIPTION:North East Mall is proud to present the Easter Bunny in his beautiful flower garden set for special visits and photo purchases this spring\, March 29th through April 19th. \n\nPictures will be made using the latest in digital technology allowing families to purchase a variety of photo packages instantly. \n\nEach child visiting the Easter Bunny will receive a goody bag and a set of adjustable bunny ears\, while supplies last. \n\n\n\nMonday - Friday: 11 am - 8 pm\n\nSaturday: 10 am - 8 pm\n\nSunday: 12 noon - 6 pm
X-ALT-DESC;FMTTYPE=text/html:North East Mall is proud to present the Easter Bunny in his beautiful flower garden set for special visits and photo purchases this spring\, March 29th through April 19th.&nbsp\;<br />\nPictures will be made using the latest in digital technology allowing families to purchase a variety of photo packages instantly.&nbsp\;<br />\nEach child visiting the Easter Bunny will receive a goody bag and a set of adjustable bunny ears\, while supplies last.&nbsp\;<br />\n<br />\nMonday - Friday: 11 am - 8 pm<br />\nSaturday: 10 am - 8 pm<br />\nSunday: 12 noon - 6 pm
LOCATION:North East Mall\, Center Court
UID:e.642.6856
SEQUENCE:3
DTSTAMP:20260422T051645Z
URL:https://business.colleyvillechamber.org/events/details/easter-photo-experience-03-29-2014-6856
END:VEVENT

END:VCALENDAR
