BEGIN:VCALENDAR
VERSION:2.0
PRODID:-//ChamberMaster//Event Calendar 2.0//EN
METHOD:PUBLISH
X-PUBLISHED-TTL:P3D
REFRESH-INTERVAL:P3D
CALSCALE:GREGORIAN
BEGIN:VEVENT
DTSTART:20240822T150000Z
DTEND:20240822T160000Z
X-MICROSOFT-CDO-ALLDAYEVENT:FALSE
SUMMARY:Economic Development Forum
DESCRIPTION:
X-ALT-DESC;FMTTYPE=text/html:
LOCATION:Colleyville Business Center 5601 Colleyville Blvd
UID:e.642.29943
SEQUENCE:3
DTSTAMP:20260423T035705Z
URL:https://business.colleyvillechamber.org/events/details/economic-development-forum-08-22-2024-29943
END:VEVENT

END:VCALENDAR
