BEGIN:VCALENDAR
VERSION:2.0
PRODID:-//ChamberMaster//Event Calendar 2.0//EN
METHOD:PUBLISH
X-PUBLISHED-TTL:P3D
REFRESH-INTERVAL:P3D
CALSCALE:GREGORIAN
BEGIN:VEVENT
DTSTART:20261126T160000Z
DTEND:20261126T170000Z
X-MICROSOFT-CDO-ALLDAYEVENT:FALSE
SUMMARY:Economic Development Forum
DESCRIPTION:
X-ALT-DESC;FMTTYPE=text/html:
LOCATION:Colleyville Chamber of Commerce 35 Veranda Ln. Colleyville\, TX 76034
UID:e.642.31262
SEQUENCE:3
DTSTAMP:20260420T055940Z
URL:https://business.colleyvillechamber.org/events/details/economic-development-forum-11-26-2026-31262
END:VEVENT

END:VCALENDAR
