BEGIN:VCALENDAR
VERSION:2.0
PRODID:-//ChamberMaster//Event Calendar 2.0//EN
METHOD:PUBLISH
X-PUBLISHED-TTL:P3D
REFRESH-INTERVAL:P3D
CALSCALE:GREGORIAN
BEGIN:VEVENT
DTSTART:20120508T220000Z
DTEND:20120509T000000Z
X-MICROSOFT-CDO-ALLDAYEVENT:FALSE
SUMMARY:Elsie Gunter's 50 Years of Banking Celebration
DESCRIPTION:
X-ALT-DESC;FMTTYPE=text/html:
LOCATION:Colleyville Center 5301 Riverwalk Drive Colleyville\, TX 76034
UID:e.642.5043
SEQUENCE:3
DTSTAMP:20260423T183152Z
URL:https://business.colleyvillechamber.org/events/details/elsie-gunter-s-50-years-of-banking-celebration-05-08-2012-5043
END:VEVENT

END:VCALENDAR
