BEGIN:VCALENDAR
VERSION:2.0
PRODID:-//ChamberMaster//Event Calendar 2.0//EN
METHOD:PUBLISH
X-PUBLISHED-TTL:P3D
REFRESH-INTERVAL:P3D
CALSCALE:GREGORIAN
BEGIN:VEVENT
DTSTART:20250726T233000Z
DTEND:20250727T040000Z
X-MICROSOFT-CDO-ALLDAYEVENT:FALSE
SUMMARY:Emily's Smile Boxes Casino Night
DESCRIPTION:Join Emily's Smile Boxes for their annual gala celebrating 17 years of giving back. Attire: Denim and Diamonds\n\n \n\nThis event will feature a casino night\, dueling pianos\, raffle items\, heavy appetizers\, an open bar and more! This is an amazing night of fun for only $75!\n\n \n\nEmily's Smile Boxes was established in 2009 by Emily Lites after her little brother Jude suffered a massive stroke. Volunteers make boxes full of activities and give them to pediatric patients and their siblings during hospital visits and rehabilitation. These boxes are dropped off in DFW and also shipped in packs around the country for other teams to put them together. The gala is primarily focused on raising funds for the 400 boxes passed out at Christmas time.\n\n \n\nEmily's Smile Boxes could use your donations for raffle items and silent auction items. To donate and be a featured donor\, please reach out to Emilyssmileboxes@yahoo.com or 817-881-3383. \n\n\n\nEmily's Smile Box Casino Night | RallyUp
X-ALT-DESC;FMTTYPE=text/html:<p style="box-sizing: border-box\; margin: 0px\; font-size: 16px\; line-height: 24px\;"><span style="font-size:16px\;"><span style="font-family:arial\;"><span style="color: rgb(39\, 39\, 86)\; letter-spacing: 0.21px\;">Join Emily&#39\;s Smile Boxes for their annual gala celebrating 17 years of giving back. Attire:&nbsp\;Denim and Diamonds</span></span></span></p>\n\n<p style="box-sizing: border-box\; margin: 0px\; font-size: 16px\; line-height: 24px\;">&nbsp\;</p>\n\n<p style="box-sizing: border-box\; margin: 0px\; font-size: 16px\; line-height: 24px\;"><span style="font-size:16px\;"><span style="font-family:arial\;">This event will feature a casino night\, dueling pianos\, raffle items\, heavy appetizers\, an open bar and more! This is an amazing night of fun for only $75!</span></span></p>\n\n<p style="box-sizing: border-box\; margin: 0px\; font-size: 16px\; line-height: 24px\;">&nbsp\;</p>\n\n<p style="box-sizing: border-box\; margin: 0px\; font-size: 16px\; line-height: 24px\;"><span style="font-size:16px\;"><span style="font-family:arial\;">Emily&#39\;s Smile Boxes was established in 2009 by Emily Lites after her little brother Jude suffered a massive stroke. Volunteers make boxes full of activities and give them to pediatric patients and their siblings during hospital visits and rehabilitation. These boxes are dropped off in DFW and also shipped in packs around the country for other teams to put them together. The gala is primarily focused on raising funds for the 400 boxes passed out at Christmas time.</span></span></p>\n\n<p style="box-sizing: border-box\; margin: 0px\; font-size: 16px\; line-height: 24px\;">&nbsp\;</p>\n\n<p style="box-sizing: border-box\; margin: 0px\; font-size: 16px\; line-height: 24px\;"><span style="font-size:16px\;"><span style="font-family:arial\;">Emily&#39\;s Smile Boxes could use your donations for raffle items and silent auction items. To donate and be a featured donor\, please reach out to&nbsp\;<a style="box-sizing: border-box\; -webkit-tap-highlight-color: transparent\; background-color: transparent\; color: rgb(98\, 94\, 233)\; cursor: pointer\; outline: 0px\;">Emilyssmileboxes@yahoo.com</a>&nbsp\;or 817-881-3383.&nbsp\;</span></span><br />\n<br />\n<a href="https://go.rallyup.com/smileboxcasinonight/Campaign/Details">Emily&#39\;s Smile Box Casino Night | RallyUp</a><br />\n&nbsp\;</p>\n\n<p style="box-sizing: border-box\; margin: 0px\; font-size: 16px\; line-height: 24px\;">&nbsp\;</p>\n
LOCATION:The Marq Legends Hall 285 Shady Oaks Dr. Southlake\, TX 76092
UID:e.642.31579
SEQUENCE:3
DTSTAMP:20260421T100028Z
URL:https://business.colleyvillechamber.org/events/details/emily-s-smile-boxes-casino-night-31579
END:VEVENT

END:VCALENDAR
