BEGIN:VCALENDAR
VERSION:2.0
PRODID:-//ChamberMaster//Event Calendar 2.0//EN
METHOD:PUBLISH
X-PUBLISHED-TTL:P3D
REFRESH-INTERVAL:P3D
CALSCALE:GREGORIAN
BEGIN:VEVENT
DTSTART:20121005T133000Z
DTEND:20121005T183000Z
X-MICROSOFT-CDO-ALLDAYEVENT:FALSE
SUMMARY:Empowering Seniors 2012
DESCRIPTION:
X-ALT-DESC;FMTTYPE=text/html:
LOCATION:FBCE Campus West\, 205 N. Industrial\, Bedford\, Texas 76021
UID:e.642.5095
SEQUENCE:3
DTSTAMP:20260423T104948Z
URL:https://business.colleyvillechamber.org/events/details/empowering-seniors-2012-10-05-2012-5095
END:VEVENT

END:VCALENDAR
