BEGIN:VCALENDAR
VERSION:2.0
PRODID:-//ChamberMaster//Event Calendar 2.0//EN
METHOD:PUBLISH
X-PUBLISHED-TTL:P3D
REFRESH-INTERVAL:P3D
CALSCALE:GREGORIAN
BEGIN:VEVENT
DTSTART:20150429T230000Z
DTEND:20150430T003000Z
X-MICROSOFT-CDO-ALLDAYEVENT:FALSE
SUMMARY:Estate Planning Seminar
DESCRIPTION:
X-ALT-DESC;FMTTYPE=text/html:
LOCATION:
UID:e.642.7553
SEQUENCE:3
DTSTAMP:20260421T095951Z
URL:https://business.colleyvillechamber.org/events/details/estate-planning-seminar-04-29-2015-7553
END:VEVENT

END:VCALENDAR
