BEGIN:VCALENDAR
VERSION:2.0
PRODID:-//ChamberMaster//Event Calendar 2.0//EN
METHOD:PUBLISH
X-PUBLISHED-TTL:P3D
REFRESH-INTERVAL:P3D
CALSCALE:GREGORIAN
BEGIN:VEVENT
DTSTART;VALUE=DATE:20140503
DTEND;VALUE=DATE:20140504
TRANSP:TRANSPARENT
X-MICROSOFT-CDO-ALLDAYEVENT:TRUE
SUMMARY:Explore Horizons at Barnes & Noble Southlake
DESCRIPTION:Stop by Barnes & Noble Southlake on Saturday May 3rd and bring your children to play some interactive math and English/language arts games with the tutors from Explore Horizons Tutoring and Enrichment Center! Tutors will also be available to speak to parents about how Explore Horizons can benefit your child academically as well as enhance their love for learning.
X-ALT-DESC;FMTTYPE=text/html:Stop by Barnes &amp\; Noble Southlake on Saturday May 3rd&nbsp\;and&nbsp\;bring your children to play&nbsp\;some&nbsp\;interactive math and English/language arts games with the tutors from Explore Horizons Tutoring and Enrichment Center! Tutors will also be available to speak to parents about how Explore Horizons can benefit your child academically as well as&nbsp\;enhance their love for learning.
LOCATION:Barnes & Noble\, 1430 Plaza Pl\, Southlake\, TX 76092\, United States
UID:e.642.6867
SEQUENCE:3
DTSTAMP:20260422T052140Z
URL:https://business.colleyvillechamber.org/events/details/explore-horizons-at-barnes-noble-southlake-05-03-2014-6867
END:VEVENT

END:VCALENDAR
