BEGIN:VCALENDAR
VERSION:2.0
PRODID:-//ChamberMaster//Event Calendar 2.0//EN
METHOD:PUBLISH
X-PUBLISHED-TTL:P3D
REFRESH-INTERVAL:P3D
CALSCALE:GREGORIAN
BEGIN:VEVENT
DTSTART:20141120T160000Z
DTEND:20141120T200000Z
X-MICROSOFT-CDO-ALLDAYEVENT:FALSE
SUMMARY:EXPO
DESCRIPTION:Expo\, the Chamber's annual trade show and networking event\, is designed to be a valuable marketing tool for both business-to-consumer and business-to-business providers.  Over 40 businesses and organizations will be represented as attendees connect with area businesses\, taste food from neighborhood restaurants and shop local boutiques.  Admission is free. \n\nFor exhibitor information\, call 817.488.7148.
X-ALT-DESC;FMTTYPE=text/html:<span style="language: en-US\;"><span style="font-size: 12pt\;"><span style="font-family: arial\;"><span style="color: rgb(85\, 85\, 85)\;">Expo\, the Chamber&#39\;s annual trade show and networking event\, is designed to be a valuable marketing tool for both business-to-consumer and business-to-business providers.&nbsp\; Over 40 businesses and organizations will be represented as attendees connect with area businesses\, taste food from neighborhood restaurants and shop local boutiques.&nbsp\; Admission is free. </span></span></span></span><br />\n<span style="color: rgb(255\, 0\, 0)\;"><strong>For exhibitor information\, call 817.488.7148.</strong></span>
LOCATION:Colleyville Center 5301 Riverwalk Drive Colleyville\, Texas 76034
UID:e.642.6942
SEQUENCE:3
DTSTAMP:20260421T171646Z
URL:https://business.colleyvillechamber.org/events/details/expo-11-20-2014-6942
END:VEVENT

END:VCALENDAR
