BEGIN:VCALENDAR
VERSION:2.0
PRODID:-//ChamberMaster//Event Calendar 2.0//EN
METHOD:PUBLISH
X-PUBLISHED-TTL:P3D
REFRESH-INTERVAL:P3D
CALSCALE:GREGORIAN
BEGIN:VEVENT
DTSTART:20240803T140000Z
DTEND:20240803T230000Z
X-MICROSOFT-CDO-ALLDAYEVENT:FALSE
SUMMARY:FACE FOUNDRIE New Menu Launch Party
DESCRIPTION:Details:  Experience our newest services and products\n\n+ Microchanneling service powered by Procell\n\n+ Complimentary product goodie bags\n\n+ H2Glow powered by Hydrafacial \n\n+ Special package pricing on our next level facials \n\n+ Giveaway prizes valued at $550
X-ALT-DESC;FMTTYPE=text/html:<div><span style="color:rgb(32\, 33\, 36)">Details:&nbsp\; E</span><span style="color:rgb(32\, 33\, 36)\; font-family:arial\,sans-serif">xperience our newest services and products</span></div>\n\n<div><span style="color:rgb(32\, 33\, 36)">+ Microchanneling service powered by Procell</span></div>\n\n<div><span style="color:rgb(32\, 33\, 36)">+ Complimentary product goodie bags</span></div>\n\n<div><span style="color:rgb(32\, 33\, 36)">+ H2Glow powered by Hydrafacial&nbsp\;</span></div>\n\n<div><span style="color:rgb(32\, 33\, 36)">+ Special package pricing on our next level facials&nbsp\;</span></div>\n\n<div><span style="color:rgb(32\, 33\, 36)">+ Giveaway prizes valued at $550</span></div>\n
LOCATION:4709 Colleyville Blvd Suite 570\, Colleyville\, TX 76034
UID:e.642.30602
SEQUENCE:3
DTSTAMP:20260423T191604Z
URL:https://business.colleyvillechamber.org/events/details/face-foundrie-new-menu-launch-party-30602
END:VEVENT

END:VCALENDAR
